BEGIN:VCALENDAR
VERSION:2.0
PRODID:-//KURATOR.INFO - ECPv5.8.1//NONSGML v1.0//EN
CALSCALE:GREGORIAN
METHOD:PUBLISH
X-WR-CALNAME:KURATOR.INFO
X-ORIGINAL-URL:http://kurator.info
X-WR-CALDESC:Wydarzenia na KURATOR.INFO
BEGIN:VTIMEZONE
TZID:Europe/Warsaw
BEGIN:DAYLIGHT
TZOFFSETFROM:+0100
TZOFFSETTO:+0200
TZNAME:CEST
DTSTART:20190331T010000
END:DAYLIGHT
BEGIN:STANDARD
TZOFFSETFROM:+0200
TZOFFSETTO:+0100
TZNAME:CET
DTSTART:20191027T010000
END:STANDARD
END:VTIMEZONE
BEGIN:VEVENT
DTSTART;TZID=Europe/Warsaw:20190607T090000
DTEND;TZID=Europe/Warsaw:20190607T150000
DTSTAMP:20260425T164303
CREATED:20190305T120302Z
LAST-MODIFIED:20190515T222949Z
UID:6225-1559898000-1559919600@kurator.info
SUMMARY:Konferencja Jubileuszowa w Zielonej Górze
DESCRIPTION:
URL:http://kurator.info/event/konferencja-jubileuszowa-w-zielonej-gorze/
LOCATION:Zielona Góra
CATEGORIES:Kalendarium Kuratorskich Wydarzeń
END:VEVENT
END:VCALENDAR